BEGIN:VCALENDAR
VERSION:2.0
PRODID:my.dgnb.de
BEGIN:VEVENT
UID:69ea35df0b902
DTSTART:20250227T100000Z
SEQUENCE:0
TRANSP:OPAQUE
DTEND:20250227T110000Z
LOCATION:online
SUMMARY:Wie Sie das DGNB CO₂-Bilanz-Tool zur Erstellung eines Klimaschutz
 fahrplans richtig anwenden
CLASS:PUBLIC
DTSTAMP:20260423T150815Z
END:VEVENT
END:VCALENDAR