BEGIN:VCALENDAR
VERSION:2.0
PRODID:my.dgnb.de
BEGIN:VEVENT
UID:69ea67c0dcd99
DTSTART:20250605T090000Z
SEQUENCE:0
TRANSP:OPAQUE
DTEND:20250605T093000Z
LOCATION:Online
SUMMARY:DGNB Zertifizierung von Quartierssanierungen – Kurzeinblick für 
 Ihr Projekt
CLASS:PUBLIC
DTSTAMP:20260423T184104Z
END:VEVENT
END:VCALENDAR