BEGIN:VCALENDAR
VERSION:2.0
PRODID:my.dgnb.de
BEGIN:VEVENT
UID:69eb7ea646e1d
DTSTART:20251015T073000Z
SEQUENCE:0
TRANSP:OPAQUE
DTEND:20251015T113000Z
LOCATION:Online
SUMMARY:Serielle Sanierung: große Gebäudebestände nachhaltig\, wirtschaf
 tlich und sozialverträglich dekarbonisieren
CLASS:PUBLIC
DTSTAMP:20260424T143102Z
END:VEVENT
END:VCALENDAR