BEGIN:VCALENDAR
VERSION:2.0
PRODID:my.dgnb.de
BEGIN:VEVENT
UID:69ead0fb02b8d
DTSTART:20251203T090000Z
SEQUENCE:0
TRANSP:OPAQUE
DTEND:20251204T170000Z
LOCATION:Düsseldorf
SUMMARY:ARCHITECT@WORK Düsseldorf
CLASS:PUBLIC
DTSTAMP:20260424T021003Z
END:VEVENT
END:VCALENDAR