BEGIN:VCALENDAR
VERSION:2.0
PRODID:my.dgnb.de
BEGIN:VEVENT
UID:69eb1328b9924
DTSTART:20251215T130000Z
SEQUENCE:0
TRANSP:OPAQUE
DTEND:20251215T143000Z
LOCATION:Online
SUMMARY:Bestand erhalten – Weiterbauen statt Neubauen
CLASS:PUBLIC
DTSTAMP:20260424T065224Z
END:VEVENT
END:VCALENDAR