BEGIN:VCALENDAR
VERSION:2.0
PRODID:my.dgnb.de
BEGIN:VEVENT
UID:69e6a9ca0bf60
DTSTART:20240215T090000Z
SEQUENCE:0
TRANSP:OPAQUE
DTEND:20240215T100000Z
LOCATION:online
SUMMARY:Der DGNB Gebäuderessourcenpass – wie man das freie Eingabetool a
 nwendet
CLASS:PUBLIC
DTSTAMP:20260420T223346Z
END:VEVENT
END:VCALENDAR