BEGIN:VCALENDAR
VERSION:2.0
PRODID:my.dgnb.de
BEGIN:VEVENT
UID:69ed6b89c3d67
DTSTART:20241029T093000Z
SEQUENCE:0
TRANSP:OPAQUE
DTEND:20241029T140000Z
LOCATION:online
SUMMARY:Nachhaltig entwerfen: Systematik für Nachhaltigkeitsanforderungen 
 in Planungswettbewerben (SNAP)
CLASS:PUBLIC
DTSTAMP:20260426T013401Z
END:VEVENT
END:VCALENDAR