BEGIN:VCALENDAR
VERSION:2.0
PRODID:my.dgnb.de
BEGIN:VEVENT
UID:69e5bb2f36be8
DTSTART:20240925T083000Z
SEQUENCE:0
TRANSP:OPAQUE
DTEND:20240925T130000Z
LOCATION:online
SUMMARY:ESG: Was Social- und Governance-Kriterien für die Bau- und Immobil
 ienbranche bedeuten
CLASS:PUBLIC
DTSTAMP:20260420T053543Z
END:VEVENT
END:VCALENDAR