BEGIN:VCALENDAR
VERSION:2.0
PRODID:my.dgnb.de
BEGIN:VEVENT
UID:69e9dace003b1
DTSTART:20240709T083000Z
SEQUENCE:0
TRANSP:OPAQUE
DTEND:20240709T130000Z
LOCATION:online
SUMMARY:Holz\, Stroh\, Lehm und Co.: Potenziale und Einsatzmöglichkeiten v
 on Naturbaustoffen
CLASS:PUBLIC
DTSTAMP:20260423T083942Z
END:VEVENT
END:VCALENDAR