BEGIN:VCALENDAR
VERSION:2.0
PRODID:my.dgnb.de
BEGIN:VEVENT
UID:69ead1936666e
DTSTART:20240620T083000Z
SEQUENCE:0
TRANSP:OPAQUE
DTEND:20240620T130000Z
LOCATION:online
SUMMARY:Serielle Sanierung: große Gebäudebestände nachhaltig\, wirtschaf
 tlich und sozialverträglich dekarbonisieren
CLASS:PUBLIC
DTSTAMP:20260424T021235Z
END:VEVENT
END:VCALENDAR