BEGIN:VCALENDAR
VERSION:2.0
PRODID:my.dgnb.de
BEGIN:VEVENT
UID:69e9daacb5f90
DTSTART:20241015T083000Z
SEQUENCE:0
TRANSP:OPAQUE
DTEND:20241015T130000Z
LOCATION:online
SUMMARY:Serielle Sanierung: große Gebäudebestände nachhaltig\, wirtschaf
 tlich und sozialverträglich dekarbonisieren
CLASS:PUBLIC
DTSTAMP:20260423T083908Z
END:VEVENT
END:VCALENDAR