BEGIN:VCALENDAR
VERSION:2.0
PRODID:my.dgnb.de
BEGIN:VEVENT
UID:69e8b259e3554
DTSTART:20240704T083000Z
SEQUENCE:0
TRANSP:OPAQUE
DTEND:20240704T130000Z
LOCATION:online
SUMMARY:Bauen mit Beton: Was ist im Sinne der Nachhaltigkeit möglich?
CLASS:PUBLIC
DTSTAMP:20260422T113449Z
END:VEVENT
END:VCALENDAR