BEGIN:VCALENDAR
VERSION:2.0
PRODID:my.dgnb.de
BEGIN:VEVENT
UID:69ea35f3d85ca
DTSTART:20241105T093000Z
SEQUENCE:0
TRANSP:OPAQUE
DTEND:20241105T140000Z
LOCATION:online
SUMMARY:Bauen mit Beton: Was ist im Sinne der Nachhaltigkeit möglich?
CLASS:PUBLIC
DTSTAMP:20260423T150835Z
END:VEVENT
END:VCALENDAR