BEGIN:VCALENDAR
VERSION:2.0
PRODID:my.dgnb.de
BEGIN:VEVENT
UID:69ea03370c873
DTSTART:20240718T090000Z
SEQUENCE:0
TRANSP:OPAQUE
DTEND:20240718T094500Z
LOCATION:online
SUMMARY:DGNB anerkannte Dienstleistung – der Zertifizierungsbaustein im D
 GNB System für Gebäude im Betrieb
CLASS:PUBLIC
DTSTAMP:20260423T113207Z
END:VEVENT
END:VCALENDAR