BEGIN:VCALENDAR
VERSION:2.0
PRODID:my.dgnb.de
BEGIN:VEVENT
UID:69e90e7989f6e
DTSTART:20241002T073000Z
SEQUENCE:0
TRANSP:OPAQUE
DTEND:20241002T081500Z
LOCATION:online
SUMMARY:Nachhaltige und klimaneutrale Städte – das DGNB System für Quar
 tiere
CLASS:PUBLIC
DTSTAMP:20260422T180753Z
END:VEVENT
END:VCALENDAR