BEGIN:VCALENDAR
VERSION:2.0
PRODID:my.dgnb.de
BEGIN:VEVENT
UID:69ec015bb016c
DTSTART:20240731T083000Z
SEQUENCE:0
TRANSP:OPAQUE
DTEND:20240731T091500Z
LOCATION:online
SUMMARY:Das DGNB System für die Sanierung oder den Neubau von kleinen Wohn
 gebäuden\, Version 2024
CLASS:PUBLIC
DTSTAMP:20260424T234843Z
END:VEVENT
END:VCALENDAR