BEGIN:VCALENDAR
VERSION:2.0
PRODID:my.dgnb.de
BEGIN:VEVENT
UID:69e8b22d98b55
DTSTART:20240925T073000Z
SEQUENCE:0
TRANSP:OPAQUE
DTEND:20240925T140000Z
LOCATION:Frankfurt
SUMMARY:DGNB Ideenlabor 2024
CLASS:PUBLIC
DTSTAMP:20260422T113405Z
END:VEVENT
END:VCALENDAR