BEGIN:VCALENDAR
VERSION:2.0
PRODID:my.dgnb.de
BEGIN:VEVENT
UID:69eb14c253beb
DTSTART:20250220T090000Z
SEQUENCE:0
TRANSP:OPAQUE
DTEND:20250220T100000Z
LOCATION:online
SUMMARY:Einführung in Zirkuläres Bauen 
CLASS:PUBLIC
DTSTAMP:20260424T065914Z
END:VEVENT
END:VCALENDAR