BEGIN:VCALENDAR
VERSION:2.0
PRODID:my.dgnb.de
BEGIN:VEVENT
UID:69e98f548ca5f
DTSTART:20250403T090000Z
SEQUENCE:0
TRANSP:OPAQUE
DTEND:20250403T094500Z
LOCATION:Online
SUMMARY:Bestandsgebäude und -portfolios klimaneutral machen mit System - d
 as DGNB System für Gebäude im Betrieb
CLASS:PUBLIC
DTSTAMP:20260423T031740Z
END:VEVENT
END:VCALENDAR