BEGIN:VCALENDAR
VERSION:2.0
PRODID:my.dgnb.de
BEGIN:VEVENT
UID:69e9f3298abcd
DTSTART:20250411T080000Z
SEQUENCE:0
TRANSP:OPAQUE
DTEND:20250411T090000Z
LOCATION:Online
SUMMARY:Die Initiative \"Phase Nachhaltigkeit\" stellt sich vor
CLASS:PUBLIC
DTSTAMP:20260423T102337Z
END:VEVENT
END:VCALENDAR