BEGIN:VCALENDAR
VERSION:2.0
PRODID:my.dgnb.de
BEGIN:VEVENT
UID:69e620a9939a1
DTSTART:20250505T090000Z
SEQUENCE:0
TRANSP:OPAQUE
DTEND:20250505T100000Z
LOCATION:Online
SUMMARY:DGNB Zertifizierung von Quartierssanierungen – Inhalte und Ziele 
 der Systementwicklung
CLASS:PUBLIC
DTSTAMP:20260420T124841Z
END:VEVENT
END:VCALENDAR