BEGIN:VCALENDAR
VERSION:2.0
PRODID:my.dgnb.de
BEGIN:VEVENT
UID:69e9ee63be8a9
DTSTART:20250410T073000Z
SEQUENCE:0
TRANSP:OPAQUE
DTEND:20250410T113000Z
LOCATION:Online
SUMMARY:Bauliches Recycling – Wie gelingt die Wiederverwendung von Bautei
 len und -materialien aus dem Rückbau?
CLASS:PUBLIC
DTSTAMP:20260423T100315Z
END:VEVENT
END:VCALENDAR