BEGIN:VCALENDAR
VERSION:2.0
PRODID:my.dgnb.de
BEGIN:VEVENT
UID:69e9ee7ee5aac
DTSTART:20250507T073000Z
SEQUENCE:0
TRANSP:OPAQUE
DTEND:20250507T113000Z
LOCATION:Online
SUMMARY:Physische und transitorische Klimarisiken für Immobilien bewerten
CLASS:PUBLIC
DTSTAMP:20260423T100342Z
END:VEVENT
END:VCALENDAR