BEGIN:VCALENDAR
VERSION:2.0
PRODID:my.dgnb.de
BEGIN:VEVENT
UID:69e9d57b7fc08
DTSTART:20250521T120000Z
SEQUENCE:0
TRANSP:OPAQUE
DTEND:20250521T130000Z
LOCATION:Online
SUMMARY:Info event on the draft version of the DGNB System for Buildings In
  Use\, Version 2025
CLASS:PUBLIC
DTSTAMP:20260423T081659Z
END:VEVENT
END:VCALENDAR