BEGIN:VCALENDAR
VERSION:2.0
PRODID:my.dgnb.de
BEGIN:VEVENT
UID:69eae606e72da
DTSTART:20250925T080000Z
SEQUENCE:0
TRANSP:OPAQUE
DTEND:20250925T090000Z
LOCATION:Online
SUMMARY:Was bedeutet Zertifizieren?
CLASS:PUBLIC
DTSTAMP:20260424T033950Z
END:VEVENT
END:VCALENDAR