BEGIN:VCALENDAR
VERSION:2.0
PRODID:my.dgnb.de
BEGIN:VEVENT
UID:69ea9434cb3eb
DTSTART:20251117T090000Z
SEQUENCE:0
TRANSP:OPAQUE
DTEND:20251117T110000Z
LOCATION:Online
SUMMARY:Digitale-Quartiersbesichtigung: Energiekonzept Flecken Steyerberg
CLASS:PUBLIC
DTSTAMP:20260423T215044Z
END:VEVENT
END:VCALENDAR