BEGIN:VCALENDAR
VERSION:2.0
PRODID:my.dgnb.de
BEGIN:VEVENT
UID:69e9ef98195cc
DTSTART:20260429T120000Z
SEQUENCE:0
TRANSP:OPAQUE
DTEND:20260429T130000Z
LOCATION:Online
SUMMARY:Wie Kommunen die DGNB richtig für sich nutzen können
CLASS:PUBLIC
DTSTAMP:20260423T100824Z
END:VEVENT
END:VCALENDAR