BEGIN:VCALENDAR
VERSION:2.0
PRODID:my.dgnb.de
BEGIN:VEVENT
UID:69e9fa4f2ced1
DTSTART:20260521T110000Z
SEQUENCE:0
TRANSP:OPAQUE
DTEND:20260513T120000Z
LOCATION:Online
SUMMARY:Die Initiative \"Phase Nachhaltigkeit\" stellt sich vor
CLASS:PUBLIC
DTSTAMP:20260423T105407Z
END:VEVENT
END:VCALENDAR