BEGIN:VCALENDAR
VERSION:2.0
PRODID:my.dgnb.de
BEGIN:VEVENT
UID:69e9f1570643a
DTSTART:20240214T090000Z
SEQUENCE:0
TRANSP:OPAQUE
DTEND:20240214T100000Z
LOCATION:online
SUMMARY:Neu: DGNB Qualitätsstandard für Zirkularitätsindizes für Bauwer
 ke
CLASS:PUBLIC
DTSTAMP:20260423T101551Z
END:VEVENT
END:VCALENDAR