BEGIN:VCALENDAR
VERSION:2.0
PRODID:my.dgnb.de
BEGIN:VEVENT
UID:69eb4b037e48f
DTSTART:20240507T083000Z
SEQUENCE:0
TRANSP:OPAQUE
DTEND:20240507T130000Z
LOCATION:online
SUMMARY:Umbau statt Neubau: Gebäude revitalisieren und graue Energie minim
 ieren
CLASS:PUBLIC
DTSTAMP:20260424T105043Z
END:VEVENT
END:VCALENDAR