BEGIN:VCALENDAR
VERSION:2.0
PRODID:my.dgnb.de
BEGIN:VEVENT
UID:69e62ec858e18
DTSTART:20240625T083000Z
SEQUENCE:0
TRANSP:OPAQUE
DTEND:20240625T130000Z
LOCATION:online
SUMMARY:Biodiversität und blau-grüne Infrastruktur auf gewerblichen Auße
 nflächen
CLASS:PUBLIC
DTSTAMP:20260420T134856Z
END:VEVENT
END:VCALENDAR