BEGIN:VCALENDAR
VERSION:2.0
PRODID:my.dgnb.de
BEGIN:VEVENT
UID:69e8f04e00527
DTSTART:20241121T093000Z
SEQUENCE:0
TRANSP:OPAQUE
DTEND:20241121T140000Z
LOCATION:online
SUMMARY:Kreisläufe der Zukunft: Zirkularität als Standard etablieren mit 
 dem DGNB Gebäude­ressourcen­pass
CLASS:PUBLIC
DTSTAMP:20260422T155910Z
END:VEVENT
END:VCALENDAR