BEGIN:VCALENDAR
VERSION:2.0
PRODID:my.dgnb.de
BEGIN:VEVENT
UID:69e68897eefbb
DTSTART:20240514T063000Z
SEQUENCE:0
TRANSP:OPAQUE
DTEND:20240514T073000Z
LOCATION:online
SUMMARY:Biodiversität am Standort fördern – das DGNB System für biodiv
 ersitätsfördernde Außenräume
CLASS:PUBLIC
DTSTAMP:20260420T201207Z
END:VEVENT
END:VCALENDAR