BEGIN:VCALENDAR
VERSION:2.0
PRODID:my.dgnb.de
BEGIN:VEVENT
UID:69e9efab62808
DTSTART:20241213T093000Z
SEQUENCE:0
TRANSP:OPAQUE
DTEND:20241213T103000Z
LOCATION:online
SUMMARY:Die DGNB – der Verein zum Mitmachen
CLASS:PUBLIC
DTSTAMP:20260423T100843Z
END:VEVENT
END:VCALENDAR