BEGIN:VCALENDAR
VERSION:2.0
PRODID:my.dgnb.de
BEGIN:VEVENT
UID:69e687e0bade1
DTSTART:20241021T133000Z
SEQUENCE:0
TRANSP:OPAQUE
DTEND:20241021T143000Z
LOCATION:online
SUMMARY:DGNB System für (Bestands)Quartiere – Status quo der Systementwi
 cklung
CLASS:PUBLIC
DTSTAMP:20260420T200904Z
END:VEVENT
END:VCALENDAR